BEGIN:VCALENDAR
VERSION:2.0
PRODID:-//Tukios.com/
BEGIN:VEVENT
UID:96912fdc-e07e-43bf-bc96-7b7a4b70d567@www.brooksidechapelfh.com
DTSTAMP:20260420T173455Z
DTSTART:20260424T201500Z
DTEND:20260424T211500Z
SUMMARY:Funeral Service
DESCRIPTION:
URL:https://www.brooksidechapelfh.com/obituaries/shannon-kelleher
LOCATION: 116 Main St  Plaistow NH 03865
GEO:42.8348899;-71.0954136
END:VEVENT
END:VCALENDAR