BEGIN:VCALENDAR
VERSION:2.0
PRODID:-//Tukios.com/
BEGIN:VEVENT
UID:01dd0a8c-f88e-4598-b99e-230cc376d3fc@www.brooksidechapelfh.com
DTSTAMP:20260420T174022Z
DTSTART:20260424T160000Z
DTEND:20260424T200000Z
SUMMARY:Visitation
DESCRIPTION:
URL:https://www.brooksidechapelfh.com/obituaries/shannon-kelleher
LOCATION: 116 Main St  Plaistow NH 03865
GEO:42.8348899;-71.0954136
END:VEVENT
END:VCALENDAR