BEGIN:VCALENDAR
VERSION:2.0
PRODID:-//Tukios.com/
BEGIN:VEVENT
UID:f2bf607e-09f0-4861-97fb-bca7d14f84c9@www.brooksidechapelfh.com
DTSTAMP:20260425T012542Z
DTSTART:20260428T153000Z
DTEND:20260428T163000Z
SUMMARY:Funeral Service
DESCRIPTION:
URL:https://www.brooksidechapelfh.com/obituaries/janet-healey-fucci
LOCATION:Berube-Comeau Funeral Home 47 Broadway  Haverhill MA 01832
GEO:42.7790777;-71.0933909
END:VEVENT
END:VCALENDAR