BEGIN:VCALENDAR
VERSION:2.0
PRODID:-//Tukios.com/
BEGIN:VEVENT
UID:eeaf8c29-9bde-4dcf-9567-a352b35c91a0@www.brooksidechapelfh.com
DTSTAMP:20260425T012442Z
DTSTART:20260428T143000Z
DTEND:20260428T153000Z
SUMMARY:Visitation
DESCRIPTION:
URL:https://www.brooksidechapelfh.com/obituaries/janet-healey-fucci
LOCATION:Berube-Comeau Funeral Home 47 Broadway  Haverhill MA 01832
GEO:42.7790777;-71.0933909
END:VEVENT
END:VCALENDAR